BEGIN:VCALENDAR
VERSION:2.0
METHOD:PUBLISH
PRODID:- Tech-Nachrichten //NONSGML Events //EN
CALSCALE:GREGORIAN
X-WR-CALNAME:ICAL-BLOG
BEGIN:VEVENT
UID:63ea4836-98fe-44a3-8345-715c021b9c14
DTSTAMP:20260421T143433Z
CREATED:20260421T143433Z
SUMMARY:Quizfrage 4877
DESCRIPTION:https://tech-nachrichten.de/question/quizfrage-4877/ - Artikel vom: Fr.\, 10. Oktober 2025\, 19:17:02 - Wenn man -Vill du fika- gefragt wird bekommt man...
LOCATION:https://tech-nachrichten.de
CATEGORIES:Gelbe Kategorie
TRANSP:TRANSPARENT
X-MICROSOFT-CDO-BUSYSTATUS:FREE
SEQUENCE:0
CLASS:PUBLIC
PRIORITY:1
DTSTART:20260422T070000Z
DTEND:20260422T080000Z
BEGIN:VALARM
TRIGGER:-PT30M
ACTION:DISPLAY
DESCRIPTION:Reminder for Quizfrage 4877
END:VALARM
END:VEVENT
END:VCALENDAR
