BEGIN:VCALENDAR
VERSION:2.0
METHOD:PUBLISH
PRODID:- Tech-Nachrichten //NONSGML Events //EN
CALSCALE:GREGORIAN
X-WR-CALNAME:ICAL-BLOG
BEGIN:VEVENT
UID:9e48562c-0204-4e84-b042-3e4e8c70acb1
DTSTAMP:20260425T122626Z
CREATED:20260425T122626Z
SUMMARY:Quizfrage 5033
DESCRIPTION:https://tech-nachrichten.de/question/quizfrage-5033/ - Artikel vom: Fr.\, 10. Oktober 2025\, 19:17:04 - Welche Speise wird aus dem Fleisch eines Nagetiers zubereitet das in Nordamerika heimisch ist?
LOCATION:https://tech-nachrichten.de
CATEGORIES:Gelbe Kategorie
TRANSP:TRANSPARENT
X-MICROSOFT-CDO-BUSYSTATUS:FREE
SEQUENCE:0
CLASS:PUBLIC
PRIORITY:1
DTSTART:20260426T070000Z
DTEND:20260426T080000Z
BEGIN:VALARM
TRIGGER:-PT30M
ACTION:DISPLAY
DESCRIPTION:Reminder for Quizfrage 5033
END:VALARM
END:VEVENT
END:VCALENDAR
