BEGIN:VCALENDAR
VERSION:2.0
METHOD:PUBLISH
PRODID:- Tech-Nachrichten //NONSGML Events //EN
CALSCALE:GREGORIAN
X-WR-CALNAME:ICAL-BLOG
BEGIN:VEVENT
UID:a8e51ab9-29c7-4553-ab8e-95279ee2481e
DTSTAMP:20260425T104250Z
CREATED:20260425T104250Z
SUMMARY:Quizfrage 5102
DESCRIPTION:https://tech-nachrichten.de/question/quizfrage-5102/ - Artikel vom: Fr.\, 10. Oktober 2025\, 19:17:05 - Der alte Begriff -flattieren- bedeutet
LOCATION:https://tech-nachrichten.de
CATEGORIES:Gelbe Kategorie
TRANSP:TRANSPARENT
X-MICROSOFT-CDO-BUSYSTATUS:FREE
SEQUENCE:0
CLASS:PUBLIC
PRIORITY:1
DTSTART:20260425T070000Z
DTEND:20260425T080000Z
BEGIN:VALARM
TRIGGER:-PT30M
ACTION:DISPLAY
DESCRIPTION:Reminder for Quizfrage 5102
END:VALARM
END:VEVENT
END:VCALENDAR
