BEGIN:VCALENDAR
VERSION:2.0
METHOD:PUBLISH
PRODID:- Tech-Nachrichten //NONSGML Events //EN
CALSCALE:GREGORIAN
X-WR-CALNAME:ICAL-BLOG
BEGIN:VEVENT
UID:d6bbef55-8bda-41ca-87e5-6b4fc264f529
DTSTAMP:20260425T101859Z
CREATED:20260425T101859Z
SUMMARY:Quizfrage 5102
DESCRIPTION:https://tech-nachrichten.de/question/quizfrage-5102/ - Artikel vom: Fr.\, 10. Oktober 2025\, 19:17:05 - Der alte Begriff -flattieren- bedeutet
LOCATION:https://tech-nachrichten.de
CATEGORIES:Gelbe Kategorie
TRANSP:TRANSPARENT
X-MICROSOFT-CDO-BUSYSTATUS:FREE
SEQUENCE:0
CLASS:PUBLIC
PRIORITY:1
DTSTART:20260426T070000Z
DTEND:20260426T080000Z
BEGIN:VALARM
TRIGGER:-PT30M
ACTION:DISPLAY
DESCRIPTION:Reminder for Quizfrage 5102
END:VALARM
END:VEVENT
END:VCALENDAR
