BEGIN:VCALENDAR
VERSION:2.0
METHOD:PUBLISH
PRODID:- Tech-Nachrichten //NONSGML Events //EN
CALSCALE:GREGORIAN
X-WR-CALNAME:ICAL-BLOG
BEGIN:VEVENT
UID:68cd0099-8367-4584-8ffb-7632ec94f3db
DTSTAMP:20260425T124924Z
CREATED:20260425T124924Z
SUMMARY:Quizfrage 5160
DESCRIPTION:https://tech-nachrichten.de/question/quizfrage-5160/ - Artikel vom: Fr.\, 10. Oktober 2025\, 19:17:06 - Wie viele Kontinente gibt es?
LOCATION:https://tech-nachrichten.de
CATEGORIES:Gelbe Kategorie
TRANSP:TRANSPARENT
X-MICROSOFT-CDO-BUSYSTATUS:FREE
SEQUENCE:0
CLASS:PUBLIC
PRIORITY:1
DTSTART:20260425T070000Z
DTEND:20260425T080000Z
BEGIN:VALARM
TRIGGER:-PT30M
ACTION:DISPLAY
DESCRIPTION:Reminder for Quizfrage 5160
END:VALARM
END:VEVENT
END:VCALENDAR
