BEGIN:VCALENDAR
VERSION:2.0
METHOD:PUBLISH
PRODID:- Tech-Nachrichten //NONSGML Events //EN
CALSCALE:GREGORIAN
X-WR-CALNAME:ICAL-BLOG
BEGIN:VEVENT
UID:8674b6bc-f032-4bf0-b252-f0166ae3f916
DTSTAMP:20260425T111826Z
CREATED:20260425T111826Z
SUMMARY:Quizfrage 5160
DESCRIPTION:https://tech-nachrichten.de/question/quizfrage-5160/ - Artikel vom: Fr.\, 10. Oktober 2025\, 19:17:06 - Wie viele Kontinente gibt es?
LOCATION:https://tech-nachrichten.de
CATEGORIES:Gelbe Kategorie
TRANSP:TRANSPARENT
X-MICROSOFT-CDO-BUSYSTATUS:FREE
SEQUENCE:0
CLASS:PUBLIC
PRIORITY:1
DTSTART:20260426T070000Z
DTEND:20260426T080000Z
BEGIN:VALARM
TRIGGER:-PT30M
ACTION:DISPLAY
DESCRIPTION:Reminder for Quizfrage 5160
END:VALARM
END:VEVENT
END:VCALENDAR
