BEGIN:VCALENDAR
VERSION:2.0
METHOD:PUBLISH
PRODID:- Tech-Nachrichten //NONSGML Events //EN
CALSCALE:GREGORIAN
X-WR-CALNAME:ICAL-BLOG
BEGIN:VEVENT
UID:80715cec-d32f-42ad-ada4-aff3d90ceee5
DTSTAMP:20260425T121152Z
CREATED:20260425T121152Z
SUMMARY:Quizfrage 5164
DESCRIPTION:https://tech-nachrichten.de/question/quizfrage-5164/ - Artikel vom: Fr.\, 10. Oktober 2025\, 19:17:06 - Wer schrieb -Harry Potter-?
LOCATION:https://tech-nachrichten.de
CATEGORIES:Gelbe Kategorie
TRANSP:TRANSPARENT
X-MICROSOFT-CDO-BUSYSTATUS:FREE
SEQUENCE:0
CLASS:PUBLIC
PRIORITY:1
DTSTART:20260422T070000Z
DTEND:20260422T080000Z
BEGIN:VALARM
TRIGGER:-PT30M
ACTION:DISPLAY
DESCRIPTION:Reminder for Quizfrage 5164
END:VALARM
END:VEVENT
END:VCALENDAR
