BEGIN:VCALENDAR
VERSION:2.0
METHOD:PUBLISH
PRODID:- Tech-Nachrichten //NONSGML Events //EN
CALSCALE:GREGORIAN
X-WR-CALNAME:ICAL-BLOG
BEGIN:VEVENT
UID:a2a352af-efe9-43f4-b992-f0489c5b90bb
DTSTAMP:20260425T125008Z
CREATED:20260425T125008Z
SUMMARY:Quizfrage 5175
DESCRIPTION:https://tech-nachrichten.de/question/quizfrage-5175/ - Artikel vom: Fr.\, 10. Oktober 2025\, 19:17:06 - Welches Land ist bekannt für den Eiffelturm?
LOCATION:https://tech-nachrichten.de
CATEGORIES:Gelbe Kategorie
TRANSP:TRANSPARENT
X-MICROSOFT-CDO-BUSYSTATUS:FREE
SEQUENCE:0
CLASS:PUBLIC
PRIORITY:1
DTSTART:20260425T070000Z
DTEND:20260425T080000Z
BEGIN:VALARM
TRIGGER:-PT30M
ACTION:DISPLAY
DESCRIPTION:Reminder for Quizfrage 5175
END:VALARM
END:VEVENT
END:VCALENDAR
