BEGIN:VCALENDAR
VERSION:2.0
METHOD:PUBLISH
PRODID:- Tech-Nachrichten //NONSGML Events //EN
CALSCALE:GREGORIAN
X-WR-CALNAME:ICAL-BLOG
BEGIN:VEVENT
UID:2d72af87-1443-4568-8412-2f6e9534fe19
DTSTAMP:20260425T124928Z
CREATED:20260425T124928Z
SUMMARY:Quizfrage 5175
DESCRIPTION:https://tech-nachrichten.de/question/quizfrage-5175/ - Artikel vom: Fr.\, 10. Oktober 2025\, 19:17:06 - Welches Land ist bekannt für den Eiffelturm?
LOCATION:https://tech-nachrichten.de
CATEGORIES:Gelbe Kategorie
TRANSP:TRANSPARENT
X-MICROSOFT-CDO-BUSYSTATUS:FREE
SEQUENCE:0
CLASS:PUBLIC
PRIORITY:1
DTSTART:20260426T070000Z
DTEND:20260426T080000Z
BEGIN:VALARM
TRIGGER:-PT30M
ACTION:DISPLAY
DESCRIPTION:Reminder for Quizfrage 5175
END:VALARM
END:VEVENT
END:VCALENDAR
