BEGIN:VCALENDAR
VERSION:2.0
METHOD:PUBLISH
PRODID:- Tech-Nachrichten //NONSGML Events //EN
CALSCALE:GREGORIAN
X-WR-CALNAME:ICAL-BLOG
BEGIN:VEVENT
UID:9ab3bfaa-ff95-4ee3-a8f7-21956fb955aa
DTSTAMP:20260425T121449Z
CREATED:20260425T121449Z
SUMMARY:Quizfrage 5225
DESCRIPTION:https://tech-nachrichten.de/question/quizfrage-5225/ - Artikel vom: Fr.\, 10. Oktober 2025\, 19:17:06 - Wer sang das Lied -Last Christmas-?
LOCATION:https://tech-nachrichten.de
CATEGORIES:Gelbe Kategorie
TRANSP:TRANSPARENT
X-MICROSOFT-CDO-BUSYSTATUS:FREE
SEQUENCE:0
CLASS:PUBLIC
PRIORITY:1
DTSTART:20260422T070000Z
DTEND:20260422T080000Z
BEGIN:VALARM
TRIGGER:-PT30M
ACTION:DISPLAY
DESCRIPTION:Reminder for Quizfrage 5225
END:VALARM
END:VEVENT
END:VCALENDAR
