BEGIN:VCALENDAR
VERSION:2.0
METHOD:PUBLISH
PRODID:- Tech-Nachrichten //NONSGML Events //EN
CALSCALE:GREGORIAN
X-WR-CALNAME:ICAL-BLOG
BEGIN:VEVENT
UID:86738a33-b4e2-49c3-86df-178810e47efd
DTSTAMP:20260421T212326Z
CREATED:20260421T212326Z
SUMMARY:Quizfrage 5226
DESCRIPTION:https://tech-nachrichten.de/question/quizfrage-5226/ - Artikel vom: Fr.\, 10. Oktober 2025\, 19:17:06 - Was ist das beliebteste Gebäck zur Weihnachtszeit in Deutschland?
LOCATION:https://tech-nachrichten.de
CATEGORIES:Gelbe Kategorie
TRANSP:TRANSPARENT
X-MICROSOFT-CDO-BUSYSTATUS:FREE
SEQUENCE:0
CLASS:PUBLIC
PRIORITY:1
DTSTART:20260422T070000Z
DTEND:20260422T080000Z
BEGIN:VALARM
TRIGGER:-PT30M
ACTION:DISPLAY
DESCRIPTION:Reminder for Quizfrage 5226
END:VALARM
END:VEVENT
END:VCALENDAR
