BEGIN:VCALENDAR
VERSION:2.0
METHOD:PUBLISH
PRODID:- Tech-Nachrichten //NONSGML Events //EN
CALSCALE:GREGORIAN
X-WR-CALNAME:ICAL-BLOG
BEGIN:VEVENT
UID:a9740ba8-a4ea-4589-a3e2-844bb9ba8fad
DTSTAMP:20260421T224602Z
CREATED:20260421T224602Z
SUMMARY:Quizfrage 5277
DESCRIPTION:https://tech-nachrichten.de/question/quizfrage-5277/ - Artikel vom: Fr.\, 10. Oktober 2025\, 19:17:07 - Wann beginnt die Adventszeit?
LOCATION:https://tech-nachrichten.de
CATEGORIES:Gelbe Kategorie
TRANSP:TRANSPARENT
X-MICROSOFT-CDO-BUSYSTATUS:FREE
SEQUENCE:0
CLASS:PUBLIC
PRIORITY:1
DTSTART:20260422T070000Z
DTEND:20260422T080000Z
BEGIN:VALARM
TRIGGER:-PT30M
ACTION:DISPLAY
DESCRIPTION:Reminder for Quizfrage 5277
END:VALARM
END:VEVENT
END:VCALENDAR
