BEGIN:VCALENDAR
VERSION:2.0
METHOD:PUBLISH
PRODID:- Tech-Nachrichten //NONSGML Events //EN
CALSCALE:GREGORIAN
X-WR-CALNAME:ICAL-BLOG
BEGIN:VEVENT
UID:ef836c6d-4e43-4f27-86c5-6ee39b8ec85b
DTSTAMP:20260425T104220Z
CREATED:20260425T104220Z
SUMMARY:Quizfrage 5310
DESCRIPTION:https://tech-nachrichten.de/question/quizfrage-5310/ - Artikel vom: Fr.\, 10. Oktober 2025\, 19:17:07 - Welches Land wird oft als Ursprung des Weihnachtsbaums genannt?
LOCATION:https://tech-nachrichten.de
CATEGORIES:Gelbe Kategorie
TRANSP:TRANSPARENT
X-MICROSOFT-CDO-BUSYSTATUS:FREE
SEQUENCE:0
CLASS:PUBLIC
PRIORITY:1
DTSTART:20260425T070000Z
DTEND:20260425T080000Z
BEGIN:VALARM
TRIGGER:-PT30M
ACTION:DISPLAY
DESCRIPTION:Reminder for Quizfrage 5310
END:VALARM
END:VEVENT
END:VCALENDAR
