BEGIN:VCALENDAR
VERSION:2.0
METHOD:PUBLISH
PRODID:- Tech-Nachrichten //NONSGML Events //EN
CALSCALE:GREGORIAN
X-WR-CALNAME:ICAL-BLOG
BEGIN:VEVENT
UID:8a55591c-90bf-41c4-b268-d8cdd6f7656d
DTSTAMP:20260421T231833Z
CREATED:20260421T231833Z
SUMMARY:Quizfrage 5352
DESCRIPTION:https://tech-nachrichten.de/question/quizfrage-5352/ - Artikel vom: Fr.\, 10. Oktober 2025\, 19:17:07 - Keine Rose ohne Dornen und welches zweite Sprichwort ist versteckt? AKBEWIANRETREONSUENODHTNEEEDTORRINNEKNEN
LOCATION:https://tech-nachrichten.de
CATEGORIES:Gelbe Kategorie
TRANSP:TRANSPARENT
X-MICROSOFT-CDO-BUSYSTATUS:FREE
SEQUENCE:0
CLASS:PUBLIC
PRIORITY:1
DTSTART:20260422T070000Z
DTEND:20260422T080000Z
BEGIN:VALARM
TRIGGER:-PT30M
ACTION:DISPLAY
DESCRIPTION:Reminder for Quizfrage 5352
END:VALARM
END:VEVENT
END:VCALENDAR
