BEGIN:VCALENDAR
VERSION:2.0
METHOD:PUBLISH
PRODID:- Tech-Nachrichten //NONSGML Events //EN
CALSCALE:GREGORIAN
X-WR-CALNAME:ICAL-BLOG
BEGIN:VEVENT
UID:d7900da8-24d4-4f94-acd6-9f1f18940a9f
DTSTAMP:20260421T231940Z
CREATED:20260421T231940Z
SUMMARY:Quizfrage 5562
DESCRIPTION:https://tech-nachrichten.de/question/quizfrage-5562/ - Artikel vom: Fr.\, 10. Oktober 2025\, 19:17:08 - Was tun Sie bei Nebel mit Sicht unter 50m?
LOCATION:https://tech-nachrichten.de
CATEGORIES:Gelbe Kategorie
TRANSP:TRANSPARENT
X-MICROSOFT-CDO-BUSYSTATUS:FREE
SEQUENCE:0
CLASS:PUBLIC
PRIORITY:1
DTSTART:20260422T070000Z
DTEND:20260422T080000Z
BEGIN:VALARM
TRIGGER:-PT30M
ACTION:DISPLAY
DESCRIPTION:Reminder for Quizfrage 5562
END:VALARM
END:VEVENT
END:VCALENDAR
