BEGIN:VCALENDAR
VERSION:2.0
METHOD:PUBLISH
PRODID:- Tech-Nachrichten //NONSGML Events //EN
CALSCALE:GREGORIAN
X-WR-CALNAME:ICAL-BLOG
BEGIN:VEVENT
UID:ec28ec65-2580-4966-8daa-2b4fe1f88df5
DTSTAMP:20260421T230405Z
CREATED:20260421T230405Z
SUMMARY:Quizfrage 5571
DESCRIPTION:https://tech-nachrichten.de/question/quizfrage-5571/ - Artikel vom: Fr.\, 10. Oktober 2025\, 19:17:08 - Welche Farbe hat ein Vorfahrt-gewähren-Schild?
LOCATION:https://tech-nachrichten.de
CATEGORIES:Gelbe Kategorie
TRANSP:TRANSPARENT
X-MICROSOFT-CDO-BUSYSTATUS:FREE
SEQUENCE:0
CLASS:PUBLIC
PRIORITY:1
DTSTART:20260422T070000Z
DTEND:20260422T080000Z
BEGIN:VALARM
TRIGGER:-PT30M
ACTION:DISPLAY
DESCRIPTION:Reminder for Quizfrage 5571
END:VALARM
END:VEVENT
END:VCALENDAR
