BEGIN:VCALENDAR
VERSION:2.0
METHOD:PUBLISH
PRODID:- Tech-Nachrichten //NONSGML Events //EN
CALSCALE:GREGORIAN
X-WR-CALNAME:ICAL-BLOG
BEGIN:VEVENT
UID:d3638528-a667-419a-946f-5cc61dc2fd75
DTSTAMP:20260425T104152Z
CREATED:20260425T104152Z
SUMMARY:Quizfrage 6313
DESCRIPTION:https://tech-nachrichten.de/question/quizfrage-6313/ - Artikel vom: Fr.\, 10. Oktober 2025\, 19:17:09 - Was passiert\, wenn ein Unternehmen gegen die Bestimmungen des KI-Acts verstößt?
LOCATION:https://tech-nachrichten.de
CATEGORIES:Gelbe Kategorie
TRANSP:TRANSPARENT
X-MICROSOFT-CDO-BUSYSTATUS:FREE
SEQUENCE:0
CLASS:PUBLIC
PRIORITY:1
DTSTART:20260426T070000Z
DTEND:20260426T080000Z
BEGIN:VALARM
TRIGGER:-PT30M
ACTION:DISPLAY
DESCRIPTION:Reminder for Quizfrage 6313
END:VALARM
END:VEVENT
END:VCALENDAR
