BEGIN:VCALENDAR
VERSION:2.0
METHOD:PUBLISH
PRODID:- Tech-Nachrichten //NONSGML Events //EN
CALSCALE:GREGORIAN
X-WR-CALNAME:ICAL-BLOG
BEGIN:VEVENT
UID:cdca28ea-156a-4ae4-9a31-cd3203ef1336
DTSTAMP:20260421T213807Z
CREATED:20260421T213807Z
SUMMARY:Quizfrage 6340
DESCRIPTION:https://tech-nachrichten.de/question/quizfrage-6340/ - Artikel vom: Fr.\, 10. Oktober 2025\, 19:17:09 - Welche Plattform nutzt Copilot für Textbearbeitung?
LOCATION:https://tech-nachrichten.de
CATEGORIES:Gelbe Kategorie
TRANSP:TRANSPARENT
X-MICROSOFT-CDO-BUSYSTATUS:FREE
SEQUENCE:0
CLASS:PUBLIC
PRIORITY:1
DTSTART:20260422T070000Z
DTEND:20260422T080000Z
BEGIN:VALARM
TRIGGER:-PT30M
ACTION:DISPLAY
DESCRIPTION:Reminder for Quizfrage 6340
END:VALARM
END:VEVENT
END:VCALENDAR
