BEGIN:VCALENDAR
VERSION:2.0
METHOD:PUBLISH
PRODID:- Tech-Nachrichten //NONSGML Events //EN
CALSCALE:GREGORIAN
X-WR-CALNAME:ICAL-BLOG
BEGIN:VEVENT
UID:eaadc408-d02c-401f-b5fd-4bebe5515687
DTSTAMP:20260421T230420Z
CREATED:20260421T230420Z
SUMMARY:Quizfrage 6962
DESCRIPTION:https://tech-nachrichten.de/question/quizfrage-6962/ - Artikel vom: Fr.\, 10. Oktober 2025\, 19:17:10 - Welcher Song von Ed Sheeran dominierte 2017 die Charts?
LOCATION:https://tech-nachrichten.de
CATEGORIES:Gelbe Kategorie
TRANSP:TRANSPARENT
X-MICROSOFT-CDO-BUSYSTATUS:FREE
SEQUENCE:0
CLASS:PUBLIC
PRIORITY:1
DTSTART:20260422T070000Z
DTEND:20260422T080000Z
BEGIN:VALARM
TRIGGER:-PT30M
ACTION:DISPLAY
DESCRIPTION:Reminder for Quizfrage 6962
END:VALARM
END:VEVENT
END:VCALENDAR
