BEGIN:VCALENDAR
VERSION:2.0
METHOD:PUBLISH
PRODID:- Tech-Nachrichten //NONSGML Events //EN
CALSCALE:GREGORIAN
X-WR-CALNAME:ICAL-BLOG
BEGIN:VEVENT
UID:5848bc05-df8b-492e-9f5d-a5d8cebeccb6
DTSTAMP:20260425T120324Z
CREATED:20260425T120324Z
SUMMARY:Quizfrage 6963
DESCRIPTION:https://tech-nachrichten.de/question/quizfrage-6963/ - Artikel vom: Fr.\, 10. Oktober 2025\, 19:17:10 - Welcher Künstler brachte 2010 Just the Way You Are heraus?
LOCATION:https://tech-nachrichten.de
CATEGORIES:Gelbe Kategorie
TRANSP:TRANSPARENT
X-MICROSOFT-CDO-BUSYSTATUS:FREE
SEQUENCE:0
CLASS:PUBLIC
PRIORITY:1
DTSTART:20260426T070000Z
DTEND:20260426T080000Z
BEGIN:VALARM
TRIGGER:-PT30M
ACTION:DISPLAY
DESCRIPTION:Reminder for Quizfrage 6963
END:VALARM
END:VEVENT
END:VCALENDAR
