BEGIN:VCALENDAR
VERSION:2.0
METHOD:PUBLISH
PRODID:- Tech-Nachrichten //NONSGML Events //EN
CALSCALE:GREGORIAN
X-WR-CALNAME:ICAL-BLOG
BEGIN:VEVENT
UID:ec233d46-8612-491a-a97f-0127d246f706
DTSTAMP:20260425T111835Z
CREATED:20260425T111835Z
SUMMARY:Quizfrage 6991
DESCRIPTION:https://tech-nachrichten.de/question/quizfrage-6991/ - Artikel vom: Fr.\, 10. Oktober 2025\, 19:17:10 - Welche Sprache gehört zur germanischen Sprachfamilie?
LOCATION:https://tech-nachrichten.de
CATEGORIES:Gelbe Kategorie
TRANSP:TRANSPARENT
X-MICROSOFT-CDO-BUSYSTATUS:FREE
SEQUENCE:0
CLASS:PUBLIC
PRIORITY:1
DTSTART:20260426T070000Z
DTEND:20260426T080000Z
BEGIN:VALARM
TRIGGER:-PT30M
ACTION:DISPLAY
DESCRIPTION:Reminder for Quizfrage 6991
END:VALARM
END:VEVENT
END:VCALENDAR
