BEGIN:VCALENDAR
VERSION:2.0
METHOD:PUBLISH
PRODID:- Tech-Nachrichten //NONSGML Events //EN
CALSCALE:GREGORIAN
X-WR-CALNAME:ICAL-BLOG
BEGIN:VEVENT
UID:17bebd25-9396-422b-93a0-010a8421ad1e
DTSTAMP:20260425T110116Z
CREATED:20260425T110116Z
SUMMARY:Quizfrage 7179
DESCRIPTION:https://tech-nachrichten.de/question/quizfrage-7179/ - Artikel vom: Fr.\, 10. Oktober 2025\, 19:17:10 - Wo lege ich die gevis ERP BC spezifischen Drucker und Standarddrucker fest?
LOCATION:https://tech-nachrichten.de
CATEGORIES:Gelbe Kategorie
TRANSP:TRANSPARENT
X-MICROSOFT-CDO-BUSYSTATUS:FREE
SEQUENCE:0
CLASS:PUBLIC
PRIORITY:1
DTSTART:20260425T070000Z
DTEND:20260425T080000Z
BEGIN:VALARM
TRIGGER:-PT30M
ACTION:DISPLAY
DESCRIPTION:Reminder for Quizfrage 7179
END:VALARM
END:VEVENT
END:VCALENDAR
