BEGIN:VCALENDAR
VERSION:2.0
METHOD:PUBLISH
PRODID:- Tech-Nachrichten //NONSGML Events //EN
CALSCALE:GREGORIAN
X-WR-CALNAME:ICAL-BLOG
BEGIN:VEVENT
UID:75801853-4ffc-484b-a8d9-29d4d3cc1a25
DTSTAMP:20260421T230505Z
CREATED:20260421T230505Z
SUMMARY:Quizfrage 7855
DESCRIPTION:https://tech-nachrichten.de/question/quizfrage-7855/ - Artikel vom: Mo.\, 27. Oktober 2025\, 17:15:20 - Warum ist es eine schlechte Idee\, das gleiche Passwort für den privaten und den beruflichen Account zu verwenden?
LOCATION:https://tech-nachrichten.de
CATEGORIES:Gelbe Kategorie
TRANSP:TRANSPARENT
X-MICROSOFT-CDO-BUSYSTATUS:FREE
SEQUENCE:0
CLASS:PUBLIC
PRIORITY:1
DTSTART:20260422T070000Z
DTEND:20260422T080000Z
BEGIN:VALARM
TRIGGER:-PT30M
ACTION:DISPLAY
DESCRIPTION:Reminder for Quizfrage 7855
END:VALARM
END:VEVENT
END:VCALENDAR
