BEGIN:VCALENDAR
VERSION:2.0
METHOD:PUBLISH
PRODID:- Tech-Nachrichten //NONSGML Events //EN
CALSCALE:GREGORIAN
X-WR-CALNAME:ICAL-BLOG
BEGIN:VEVENT
UID:57174535-8bfa-414f-91f7-cc99f1b7f1b9
DTSTAMP:20260425T123848Z
CREATED:20260425T123848Z
SUMMARY:Quizfrage 7856
DESCRIPTION:https://tech-nachrichten.de/question/quizfrage-7856/ - Artikel vom: Mo.\, 27. Oktober 2025\, 17:15:20 - Warum ist es wichtig\, Software-Updates zeitnah zu installieren?
LOCATION:https://tech-nachrichten.de
CATEGORIES:Gelbe Kategorie
TRANSP:TRANSPARENT
X-MICROSOFT-CDO-BUSYSTATUS:FREE
SEQUENCE:0
CLASS:PUBLIC
PRIORITY:1
DTSTART:20260426T070000Z
DTEND:20260426T080000Z
BEGIN:VALARM
TRIGGER:-PT30M
ACTION:DISPLAY
DESCRIPTION:Reminder for Quizfrage 7856
END:VALARM
END:VEVENT
END:VCALENDAR
