BEGIN:VCALENDAR
VERSION:2.0
METHOD:PUBLISH
PRODID:- Tech-Nachrichten //NONSGML Events //EN
CALSCALE:GREGORIAN
X-WR-CALNAME:ICAL-BLOG
BEGIN:VEVENT
UID:85eceacb-9259-48a5-8bb5-ad3c1e3e873f
DTSTAMP:20260421T212310Z
CREATED:20260421T212310Z
SUMMARY:Quizfrage 7857
DESCRIPTION:https://tech-nachrichten.de/question/quizfrage-7857/ - Artikel vom: Mo.\, 27. Oktober 2025\, 17:15:20 - Warum sind regelmäßige Software-Updates wichtig?
LOCATION:https://tech-nachrichten.de
CATEGORIES:Gelbe Kategorie
TRANSP:TRANSPARENT
X-MICROSOFT-CDO-BUSYSTATUS:FREE
SEQUENCE:0
CLASS:PUBLIC
PRIORITY:1
DTSTART:20260422T070000Z
DTEND:20260422T080000Z
BEGIN:VALARM
TRIGGER:-PT30M
ACTION:DISPLAY
DESCRIPTION:Reminder for Quizfrage 7857
END:VALARM
END:VEVENT
END:VCALENDAR
