BEGIN:VCALENDAR
VERSION:2.0
METHOD:PUBLISH
PRODID:- Tech-Nachrichten //NONSGML Events //EN
CALSCALE:GREGORIAN
X-WR-CALNAME:ICAL-BLOG
BEGIN:VEVENT
UID:6141f9e3-41a9-4525-9fc4-a4b64d4802a8
DTSTAMP:20260421T212300Z
CREATED:20260421T212300Z
SUMMARY:Quizfrage 7860
DESCRIPTION:https://tech-nachrichten.de/question/quizfrage-7860/ - Artikel vom: Mo.\, 27. Oktober 2025\, 17:15:20 - Was bedeutet es\, wenn Sie Ihr Gerät mit einer Zwei-Faktor-Authentifizierung (2FA) schützen?
LOCATION:https://tech-nachrichten.de
CATEGORIES:Gelbe Kategorie
TRANSP:TRANSPARENT
X-MICROSOFT-CDO-BUSYSTATUS:FREE
SEQUENCE:0
CLASS:PUBLIC
PRIORITY:1
DTSTART:20260422T070000Z
DTEND:20260422T080000Z
BEGIN:VALARM
TRIGGER:-PT30M
ACTION:DISPLAY
DESCRIPTION:Reminder for Quizfrage 7860
END:VALARM
END:VEVENT
END:VCALENDAR
