BEGIN:VCALENDAR
VERSION:2.0
METHOD:PUBLISH
PRODID:- Tech-Nachrichten //NONSGML Events //EN
CALSCALE:GREGORIAN
X-WR-CALNAME:ICAL-BLOG
BEGIN:VEVENT
UID:e2968bd4-6c89-4dce-897c-e04c35033e10
DTSTAMP:20260425T120303Z
CREATED:20260425T120303Z
SUMMARY:Quizfrage 7861
DESCRIPTION:https://tech-nachrichten.de/question/quizfrage-7861/ - Artikel vom: Mo.\, 27. Oktober 2025\, 17:15:20 - Was beschreibt Social Engineering am besten?
LOCATION:https://tech-nachrichten.de
CATEGORIES:Gelbe Kategorie
TRANSP:TRANSPARENT
X-MICROSOFT-CDO-BUSYSTATUS:FREE
SEQUENCE:0
CLASS:PUBLIC
PRIORITY:1
DTSTART:20260426T070000Z
DTEND:20260426T080000Z
BEGIN:VALARM
TRIGGER:-PT30M
ACTION:DISPLAY
DESCRIPTION:Reminder for Quizfrage 7861
END:VALARM
END:VEVENT
END:VCALENDAR
