BEGIN:VCALENDAR
VERSION:2.0
METHOD:PUBLISH
PRODID:- Tech-Nachrichten //NONSGML Events //EN
CALSCALE:GREGORIAN
X-WR-CALNAME:ICAL-BLOG
BEGIN:VEVENT
UID:fbb1cb4f-0ab2-4637-88e6-e7c494515c7b
DTSTAMP:20260421T213751Z
CREATED:20260421T213751Z
SUMMARY:Quizfrage 7876
DESCRIPTION:https://tech-nachrichten.de/question/quizfrage-7876/ - Artikel vom: Mo.\, 27. Oktober 2025\, 17:15:20 - Was ist ein häufiges Zeichen dafür\, dass ein Anhang in einer E-Mail bösartig ist?
LOCATION:https://tech-nachrichten.de
CATEGORIES:Gelbe Kategorie
TRANSP:TRANSPARENT
X-MICROSOFT-CDO-BUSYSTATUS:FREE
SEQUENCE:0
CLASS:PUBLIC
PRIORITY:1
DTSTART:20260422T070000Z
DTEND:20260422T080000Z
BEGIN:VALARM
TRIGGER:-PT30M
ACTION:DISPLAY
DESCRIPTION:Reminder for Quizfrage 7876
END:VALARM
END:VEVENT
END:VCALENDAR
