BEGIN:VCALENDAR
VERSION:2.0
METHOD:PUBLISH
PRODID:- Tech-Nachrichten //NONSGML Events //EN
CALSCALE:GREGORIAN
X-WR-CALNAME:ICAL-BLOG
BEGIN:VEVENT
UID:02a48eb3-550e-4e7c-88ba-2fdbca60a754
DTSTAMP:20260425T121407Z
CREATED:20260425T121407Z
SUMMARY:Quizfrage 7879
DESCRIPTION:https://tech-nachrichten.de/question/quizfrage-7879/ - Artikel vom: Mo.\, 27. Oktober 2025\, 17:15:20 - Was ist ein Man-in-the-Middle-Angriff?
LOCATION:https://tech-nachrichten.de
CATEGORIES:Gelbe Kategorie
TRANSP:TRANSPARENT
X-MICROSOFT-CDO-BUSYSTATUS:FREE
SEQUENCE:0
CLASS:PUBLIC
PRIORITY:1
DTSTART:20260422T070000Z
DTEND:20260422T080000Z
BEGIN:VALARM
TRIGGER:-PT30M
ACTION:DISPLAY
DESCRIPTION:Reminder for Quizfrage 7879
END:VALARM
END:VEVENT
END:VCALENDAR
