BEGIN:VCALENDAR
VERSION:2.0
METHOD:PUBLISH
PRODID:- Tech-Nachrichten //NONSGML Events //EN
CALSCALE:GREGORIAN
X-WR-CALNAME:ICAL-BLOG
BEGIN:VEVENT
UID:0560b8bf-2b4b-469c-8332-8d6b9d888592
DTSTAMP:20260421T231736Z
CREATED:20260421T231736Z
SUMMARY:Quizfrage 7905
DESCRIPTION:https://tech-nachrichten.de/question/quizfrage-7905/ - Artikel vom: Mo.\, 27. Oktober 2025\, 17:15:20 - Was ist eine gängige Taktik\, um Sie in einer Phishing-E-Mail zum Klicken zu bewegen?
LOCATION:https://tech-nachrichten.de
CATEGORIES:Gelbe Kategorie
TRANSP:TRANSPARENT
X-MICROSOFT-CDO-BUSYSTATUS:FREE
SEQUENCE:0
CLASS:PUBLIC
PRIORITY:1
DTSTART:20260422T070000Z
DTEND:20260422T080000Z
BEGIN:VALARM
TRIGGER:-PT30M
ACTION:DISPLAY
DESCRIPTION:Reminder for Quizfrage 7905
END:VALARM
END:VEVENT
END:VCALENDAR
