BEGIN:VCALENDAR
VERSION:2.0
METHOD:PUBLISH
PRODID:- Tech-Nachrichten //NONSGML Events //EN
CALSCALE:GREGORIAN
X-WR-CALNAME:ICAL-BLOG
BEGIN:VEVENT
UID:f8b61ccd-d796-4b3d-bd82-3b87a030b199
DTSTAMP:20260421T231935Z
CREATED:20260421T231935Z
SUMMARY:Quizfrage 7983
DESCRIPTION:https://tech-nachrichten.de/question/quizfrage-7983/ - Artikel vom: Sa.\, 1. November 2025\, 13:03:21 - Was ist eine BIA (Business Impact Analysis)?
LOCATION:https://tech-nachrichten.de
CATEGORIES:Gelbe Kategorie
TRANSP:TRANSPARENT
X-MICROSOFT-CDO-BUSYSTATUS:FREE
SEQUENCE:0
CLASS:PUBLIC
PRIORITY:1
DTSTART:20260422T070000Z
DTEND:20260422T080000Z
BEGIN:VALARM
TRIGGER:-PT30M
ACTION:DISPLAY
DESCRIPTION:Reminder for Quizfrage 7983
END:VALARM
END:VEVENT
END:VCALENDAR
