BEGIN:VCALENDAR
VERSION:2.0
METHOD:PUBLISH
PRODID:- Tech-Nachrichten //NONSGML Events //EN
CALSCALE:GREGORIAN
X-WR-CALNAME:ICAL-BLOG
BEGIN:VEVENT
UID:621526cd-0012-4e7d-bea6-554cd7a37c7c
DTSTAMP:20260425T023108Z
CREATED:20260425T023108Z
SUMMARY:Quizfrage 6986
DESCRIPTION:https://tech-nachrichten.de/question/quizfrage-6986/ - Artikel vom: Fr.\, 10. Oktober 2025\, 19:17:10 - Welches Land hat die meisten Nachbarstaaten?
LOCATION:https://tech-nachrichten.de
CATEGORIES:Gelbe Kategorie
TRANSP:TRANSPARENT
X-MICROSOFT-CDO-BUSYSTATUS:FREE
SEQUENCE:0
CLASS:PUBLIC
PRIORITY:1
DTSTART:20260425T070000Z
DTEND:20260425T080000Z
BEGIN:VALARM
TRIGGER:-PT30M
ACTION:DISPLAY
DESCRIPTION:Reminder for Quizfrage 6986
END:VALARM
END:VEVENT
END:VCALENDAR
