BEGIN:VCALENDAR
VERSION:2.0
METHOD:PUBLISH
PRODID:- Tech-Nachrichten //NONSGML Events //EN
CALSCALE:GREGORIAN
X-WR-CALNAME:ICAL-BLOG
BEGIN:VEVENT
UID:30829a98-5d1a-4fe9-99dd-6768187b615d
DTSTAMP:20260421T181828Z
CREATED:20260421T181828Z
SUMMARY:Windows Clients und Dynamics Serverplattformen
DESCRIPTION:https://tech-nachrichten.de/unterstuetzte-windows-client-und-serverplattformen/ - Artikel vom: Mo.\, 4. November 2024\, 13:01:33 - Der aktuelle Stand ist immer in den "GWS System Requirements" dokumentiert.\n \nClient-Betriebssysteme\n \nUpdate vom 04.11.2024 - BC25 Änderungen: Für die Übergabe von Daten an Office wird von den Kaufversionen nur noch Office 2021 (LTSC) unterstützt. Microsoft 365 ist dank Abo-Modell immer unterstützt. Windows Server 2019 wird auch nicht mehr unterstützt\, nur noch Windows Server 2022\, SQL-Server ab 2019\, Office: 2021\, Exchange Server: 2019.\n \nhttps://learn.microsoft.com/en-us/dynamics365/business-central/dev-itpro/deployment/system-requirements-business-central-v25\n \nIn den „Business Central Requirements“ ab Version 23 erwähnt Microsoft Windows 11 als Client-Plattform. Dies ist weder eine Empfehlung noch Freigabe.\n \nFür Business Central der Versionen 15-25 (Client = Google Chrome für Enterprise) gelten die Betriebssystem-Anforderungen des Browsers – Microsoft erwähnt Windows 11 nicht.\n \nFür die älteren Versionen von Dynamics NAV Classic und RTC bis BC 140 (alle Versionen mit Client-Anwendung) wird Microsoft keine Windows 11 Kompatibilität mehr ausweisen.\n \nSeit Juni 2024 wird mit neuer PC-Hardware Windows 11 Pro Version 24H2 ausgeliefert. PCs\, die die Hardware-Voraussetzungen erfüllen (mindestens Intel Core-I Prozessor der 8. Generation\, TPM 2.0 Chip\, Secure Boot und weitere…) sollten zum Erhalt weiterer Sicherheitsupdates nach dem 15. Oktober 2025 vorher neu installiert (mit Windows 11 Pro 24H2) oder ersetzt werden.\n \n\nFazit: Windows 11 ab 24H2 neu installieren\, wenn die Hardware das zulässt und keine gevis Client Anwendung installiert ist\, ansonsten bis zum Support-Ende bei Windows 10 Pro - #Win10 bleiben. #endoflife\n\n \nWie Sie das kostenlose Upgrade-Angebot von Microsoft auf Windows 11 unterdrücken\, erfahren Sie hier.\n \nBrowser\n \nGleichermaßen gilt weiterhin unsere Empfehlung für Google #Chrome für Enterprise als Standard-Browser und zur Nutzung für #gevis ERP | BC und gevis ERP | SaaS und gevis VEO. Den Microsoft Edge für Enterprise installieren Sie bitte NICHT als Standardbrowser\, aber zur Absicherung der Betriebssysteme.\n \nHintergrund: Das Arbeitsspeichermanagement in Google Chrome ist entscheidend besser als beim Edge. Chrome verbraucht bis zu 50% weniger Arbeitsspeicher für gleiche Tätigkeiten. Dennoch sollte mit der Anzahl der gleichzeitig geöffneten Tabs sparsam umgegangen werden.\n \nAzure Virtual Desktops\n \nIn den Azure Virtual Desktops besteht bis Oktober 2028 keine Notwendigkeit\, auf Windows 11 Business umzustellen.\n \nMicrosoft erwähnt keine Betriebssystemvoraussetzungen in ihrem Artikel\, in der Praxis sind derzeit aber mehr AVD auf Windows 10 Basis im Einsatz als mit Windows 11.\n \nDa die Unterstützung für Sicherheits-Patches für Windows 10 bis 25. Oktober 2025 gewährt wird\, in Azure Virtual Desktop-Umgebungen und im Erweiterten Support sogar bis Oktober 2028 und viele Hersteller das Downgrade bei neuen Systemen auf Windows 10 Pro erlauben\, kann für Azure Virtual Desktop Umgebungen weiterhin Windows 10 Pro eingesetzt werden.\n \nServer und Terminalserver (On-Prem)\n \nDie in der Praxis eingesetzten Server-Betriebssysteme ergeben sich aus den System Requirements.\n \ngevis classic Versionen (NAV2009R2)\n \nFür den Classic Client gibt es und wird es keine "Freigabe" von Microsoft geben. Für den Einsatz auf Endgeräten im lokalen Netzwerkbetrieb empfehlen wir Windows 10 Pro. Unter Windows 11 Pro gibt es Einschränkungen und Funktionsstörungen.\n \nIm Terminalbetrieb ist die empfohlene Server-Version Windows Server 2016\, es sind aber auch Fälle von 2019 bekannt in Kundenumgebungen. Für Azure Virtual Desktops (Nachfolger der Terminalserver in Azure) sollte der Pool mit Windows 10 eingerichtet werden.\n \nSQL-Server (Runtime mit Maintenance) für Classic On-Premises ist maximal Version 2019\, die Minimum-Version sollte aus Update-Gründen 2014 sein im Umlauf\, für den Einsatz in Azure Cloud Migrations-Szenarien wird ebenfalls ein Azure Server 2019 eingesetzt und die Lizenzen gemietet.\n \nMicrosoft Office 201x (On-Prem) oder Microsoft 365\n \nEs sind Fälle im Kundenkreis bekannt\, wo Microsoft 365 Business Premium in Verbindung mit gevis Classic eingesetzt wird. Dabei ist entscheidend\, NICHT das neue Outlook\, sondern Outlook classic zu verwenden. Bei den Office Kaufversionen sind lokale Installationen von Office 2016 und 2019 bekannt. Generell gilt - in Verbindung mit gevis Classic und RTC gelten alle Szenarien auf eigenes Risiko - eine Aktualisierung von gevis auf "One Version" (ab BC21 oder SaaS) ist ratsam.\n \nSkeye.allegro MDE Geräte dürfen aus Sicherheitsgründen nur noch offline betrieben werden\, da diese nur mit einem 32-Bit -Terminalserver funktionieren.\n \n\nNav 2009 R2 Windows compatibility sheet bis Windows Server 2012 R2\n \nNAV 2009 R2 Windows no compatibility für neuere Windows Server\nMicrosoft Blog\n \nRechtshinweis: aus Haftungsgründen werden wir keine Empfehlung für diese Plattform aussprechen\, sondern nur Best-Practice Erfahrungen abbilden. Der Einsatz erfolgt grundsätzlich auf eigenes Risiko.
LOCATION:https://tech-nachrichten.de
CATEGORIES:Gelbe Kategorie
TRANSP:TRANSPARENT
X-MICROSOFT-CDO-BUSYSTATUS:FREE
SEQUENCE:0
CLASS:PUBLIC
PRIORITY:1
DTSTART:20260422T070000Z
DTEND:20260422T080000Z
BEGIN:VALARM
TRIGGER:-PT30M
ACTION:DISPLAY
DESCRIPTION:Reminder for Windows Clients und Dynamics Serverplattformen
END:VALARM
END:VEVENT
END:VCALENDAR
